Package: EGSEA123 Version: 1.30.0 Command: /Library/Frameworks/R.framework/Resources/bin/R CMD INSTALL EGSEA123 StartedAt: 2025-02-07 13:02:15 -0500 (Fri, 07 Feb 2025) EndedAt: 2025-02-07 13:03:53 -0500 (Fri, 07 Feb 2025) EllapsedTime: 98.7 seconds RetCode: 0 Status: OK