Package: EGSEA123 Version: 1.30.0 Command: /home/biocbuild/bbs-3.20-bioc/R/bin/R CMD build --keep-empty-dirs --no-resave-data EGSEA123 StartedAt: 2025-02-07 13:04:11 -0500 (Fri, 07 Feb 2025) EndedAt: 2025-02-07 13:09:41 -0500 (Fri, 07 Feb 2025) EllapsedTime: 329.1 seconds RetCode: 0 Status: OK PackageFile: EGSEA123_1.30.0.tar.gz PackageFileSize: 1.906 MiB