Package: GeoMxWorkflows Version: 1.12.0 Command: /Library/Frameworks/R.framework/Resources/bin/R CMD build --keep-empty-dirs --no-resave-data GeoMxWorkflows StartedAt: 2025-01-24 13:17:01 -0500 (Fri, 24 Jan 2025) EndedAt: 2025-01-24 14:16:58 -0500 (Fri, 24 Jan 2025) EllapsedTime: 3597.3 seconds RetCode: 0 Status: OK PackageFile: GeoMxWorkflows_1.12.0.tar.gz PackageFileSize: 23.2 MiB