Package: GeoMxWorkflows Version: 1.12.0 Command: /Library/Frameworks/R.framework/Resources/bin/R CMD INSTALL GeoMxWorkflows StartedAt: 2025-01-28 13:00:39 -0500 (Tue, 28 Jan 2025) EndedAt: 2025-01-28 13:01:39 -0500 (Tue, 28 Jan 2025) EllapsedTime: 60.5 seconds RetCode: 0 Status: OK