Package: GeoMxWorkflows Version: 1.12.0 Command: /home/biocbuild/bbs-3.20-bioc/R/bin/R CMD INSTALL GeoMxWorkflows StartedAt: 2025-02-04 13:00:17 -0500 (Tue, 04 Feb 2025) EndedAt: 2025-02-04 13:00:33 -0500 (Tue, 04 Feb 2025) EllapsedTime: 15.1 seconds RetCode: 0 Status: OK