Package: GeoMxWorkflows Version: 1.12.0 Command: F:\biocbuild\bbs-3.20-bioc\R\bin\R.exe CMD INSTALL GeoMxWorkflows StartedAt: 2025-02-07 13:01:30 -0500 (Fri, 07 Feb 2025) EndedAt: 2025-02-07 13:02:05 -0500 (Fri, 07 Feb 2025) EllapsedTime: 35.3 seconds RetCode: 0 Status: OK