Package: RNAseq123 Version: 1.30.0 Command: /Library/Frameworks/R.framework/Resources/bin/R CMD INSTALL RNAseq123 StartedAt: 2024-11-15 13:00:59 -0500 (Fri, 15 Nov 2024) EndedAt: 2024-11-15 13:01:22 -0500 (Fri, 15 Nov 2024) EllapsedTime: 23.2 seconds RetCode: 0 Status: OK