Package: RNAseq123 Version: 1.30.0 Command: /Library/Frameworks/R.framework/Resources/bin/R CMD build --keep-empty-dirs --no-resave-data RNAseq123 StartedAt: 2025-02-07 13:26:35 -0500 (Fri, 07 Feb 2025) EndedAt: 2025-02-07 13:32:28 -0500 (Fri, 07 Feb 2025) EllapsedTime: 353.1 seconds RetCode: 0 Status: OK PackageFile: RNAseq123_1.30.0.tar.gz PackageFileSize: 7.245 MiB