Package: RNAseq123 Version: 1.30.0 Command: /home/biocbuild/bbs-3.20-bioc/R/bin/R CMD INSTALL RNAseq123 StartedAt: 2025-02-11 13:01:02 -0500 (Tue, 11 Feb 2025) EndedAt: 2025-02-11 13:01:30 -0500 (Tue, 11 Feb 2025) EllapsedTime: 27.3 seconds RetCode: 0 Status: OK