Package: RnaSeqGeneEdgeRQL Version: 1.30.0 Command: /Library/Frameworks/R.framework/Resources/bin/R CMD build --keep-empty-dirs --no-resave-data RnaSeqGeneEdgeRQL StartedAt: 2025-02-07 13:32:28 -0500 (Fri, 07 Feb 2025) EndedAt: 2025-02-07 13:35:38 -0500 (Fri, 07 Feb 2025) EllapsedTime: 189.5 seconds RetCode: 0 Status: OK PackageFile: RnaSeqGeneEdgeRQL_1.30.0.tar.gz PackageFileSize: 2.561 MiB