Package: RnaSeqGeneEdgeRQL Version: 1.30.0 Command: /home/biocbuild/bbs-3.20-bioc/R/bin/R CMD INSTALL RnaSeqGeneEdgeRQL StartedAt: 2025-02-04 13:00:18 -0500 (Tue, 04 Feb 2025) EndedAt: 2025-02-04 13:00:27 -0500 (Tue, 04 Feb 2025) EllapsedTime: 9.1 seconds RetCode: 0 Status: OK