Package: RnaSeqGeneEdgeRQL Version: 1.30.0 Command: chmod a+r RnaSeqGeneEdgeRQL -R && F:\biocbuild\bbs-3.20-bioc\R\bin\R.exe CMD build --keep-empty-dirs --no-resave-data RnaSeqGeneEdgeRQL StartedAt: 2025-02-07 13:14:40 -0500 (Fri, 07 Feb 2025) EndedAt: 2025-02-07 13:15:44 -0500 (Fri, 07 Feb 2025) EllapsedTime: 64.0 seconds RetCode: 0 Status: OK PackageFile: RnaSeqGeneEdgeRQL_1.30.0.tar.gz PackageFileSize: 1.129 MiB