Package: RnaSeqGeneEdgeRQL Version: 1.30.0 Command: F:\biocbuild\bbs-3.20-bioc\R\bin\R.exe CMD INSTALL RnaSeqGeneEdgeRQL StartedAt: 2025-02-07 13:01:30 -0500 (Fri, 07 Feb 2025) EndedAt: 2025-02-07 13:01:43 -0500 (Fri, 07 Feb 2025) EllapsedTime: 12.6 seconds RetCode: 0 Status: OK