Package: TCGAWorkflow Version: 1.30.0 Command: /Library/Frameworks/R.framework/Resources/bin/R CMD build --keep-empty-dirs --no-resave-data TCGAWorkflow StartedAt: 2024-11-15 13:11:04 -0500 (Fri, 15 Nov 2024) EndedAt: 2024-11-15 13:16:30 -0500 (Fri, 15 Nov 2024) EllapsedTime: 326.0 seconds RetCode: 1 Status: ERROR PackageFile: None PackageFileSize: NA