Package: TCGAWorkflow Version: 1.30.0 Command: /Library/Frameworks/R.framework/Resources/bin/R CMD INSTALL TCGAWorkflow StartedAt: 2025-02-07 13:02:32 -0500 (Fri, 07 Feb 2025) EndedAt: 2025-02-07 13:05:49 -0500 (Fri, 07 Feb 2025) EllapsedTime: 196.8 seconds RetCode: 0 Status: OK