Package: TCGAWorkflow Version: 1.30.0 Command: /home/biocbuild/bbs-3.20-bioc/R/bin/R CMD INSTALL TCGAWorkflow StartedAt: 2025-02-07 13:00:41 -0500 (Fri, 07 Feb 2025) EndedAt: 2025-02-07 13:01:42 -0500 (Fri, 07 Feb 2025) EllapsedTime: 60.5 seconds RetCode: 0 Status: OK