Package: TCGAWorkflow Version: 1.30.0 Command: chmod a+r TCGAWorkflow -R && F:\biocbuild\bbs-3.20-bioc\R\bin\R.exe CMD build --keep-empty-dirs --no-resave-data TCGAWorkflow StartedAt: 2025-02-07 13:18:45 -0500 (Fri, 07 Feb 2025) EndedAt: 2025-02-07 13:20:44 -0500 (Fri, 07 Feb 2025) EllapsedTime: 119.0 seconds RetCode: 1 Status: ERROR PackageFile: None PackageFileSize: NA