Package: annotation Version: 1.30.0 Command: chmod a+r annotation -R && F:\biocbuild\bbs-3.20-bioc\R\bin\R.exe CMD build --keep-empty-dirs --no-resave-data annotation StartedAt: 2025-02-11 13:07:12 -0500 (Tue, 11 Feb 2025) EndedAt: 2025-02-11 13:12:23 -0500 (Tue, 11 Feb 2025) EllapsedTime: 310.8 seconds RetCode: 1 Status: ERROR PackageFile: None PackageFileSize: NA