Package: annotation Version: 1.30.0 Command: F:\biocbuild\bbs-3.20-bioc\R\bin\R.exe CMD INSTALL annotation StartedAt: 2025-02-07 13:02:29 -0500 (Fri, 07 Feb 2025) EndedAt: 2025-02-07 13:03:02 -0500 (Fri, 07 Feb 2025) EllapsedTime: 33.1 seconds RetCode: 0 Status: OK