Package: arrays Version: 1.32.0 Command: chmod a+r arrays -R && F:\biocbuild\bbs-3.20-bioc\R\bin\R.exe CMD build --keep-empty-dirs --no-resave-data arrays StartedAt: 2025-02-07 13:07:06 -0500 (Fri, 07 Feb 2025) EndedAt: 2025-02-07 13:07:37 -0500 (Fri, 07 Feb 2025) EllapsedTime: 30.4 seconds RetCode: 0 Status: OK PackageFile: arrays_1.32.0.tar.gz PackageFileSize: 9.64 MiB