Package: csawUsersGuide Version: 1.22.0 Command: /Library/Frameworks/R.framework/Resources/bin/R CMD INSTALL csawUsersGuide StartedAt: 2025-02-07 13:00:28 -0500 (Fri, 07 Feb 2025) EndedAt: 2025-02-07 13:00:43 -0500 (Fri, 07 Feb 2025) EllapsedTime: 15.5 seconds RetCode: 0 Status: OK