Package: csawUsersGuide Version: 1.22.0 Command: chmod a+r csawUsersGuide -R && F:\biocbuild\bbs-3.20-bioc\R\bin\R.exe CMD build --keep-empty-dirs --no-resave-data csawUsersGuide StartedAt: 2025-02-07 13:07:06 -0500 (Fri, 07 Feb 2025) EndedAt: 2025-02-07 13:07:17 -0500 (Fri, 07 Feb 2025) EllapsedTime: 11.1 seconds RetCode: 0 Status: OK PackageFile: csawUsersGuide_1.22.0.tar.gz PackageFileSize: 36.29 KiB