Package: csawUsersGuide Version: 1.22.0 Command: F:\biocbuild\bbs-3.20-bioc\R\bin\R.exe CMD INSTALL csawUsersGuide StartedAt: 2025-02-11 13:01:27 -0500 (Tue, 11 Feb 2025) EndedAt: 2025-02-11 13:01:30 -0500 (Tue, 11 Feb 2025) EllapsedTime: 2.7 seconds RetCode: 0 Status: OK