Package: fluentGenomics Version: 1.18.0 Maintainer: Stuart Lee MaintainerEmail: stuart.andrew.lee at gmail.com git_url: https://git.bioconductor.org/packages/fluentGenomics git_branch: RELEASE_3_20 git_last_commit: 51c0b4f git_last_commit_date: 2024-10-29 10:03:20 -0500 (Tue, 29 Oct 2024)