Package: fluentGenomics Version: 1.18.0 Command: /Library/Frameworks/R.framework/Resources/bin/R CMD INSTALL fluentGenomics StartedAt: 2024-11-15 13:00:20 -0500 (Fri, 15 Nov 2024) EndedAt: 2024-11-15 13:00:50 -0500 (Fri, 15 Nov 2024) EllapsedTime: 30.0 seconds RetCode: 0 Status: OK