Package: fluentGenomics Version: 1.18.0 Command: /Library/Frameworks/R.framework/Resources/bin/R CMD INSTALL fluentGenomics StartedAt: 2025-02-07 13:00:44 -0500 (Fri, 07 Feb 2025) EndedAt: 2025-02-07 13:02:32 -0500 (Fri, 07 Feb 2025) EllapsedTime: 108.8 seconds RetCode: 0 Status: OK