Package: fluentGenomics Version: 1.18.0 Command: chmod a+r fluentGenomics -R && F:\biocbuild\bbs-3.20-bioc\R\bin\R.exe CMD build --keep-empty-dirs --no-resave-data fluentGenomics StartedAt: 2025-02-07 13:07:23 -0500 (Fri, 07 Feb 2025) EndedAt: 2025-02-07 13:10:36 -0500 (Fri, 07 Feb 2025) EllapsedTime: 193.5 seconds RetCode: 0 Status: OK PackageFile: fluentGenomics_1.18.0.tar.gz PackageFileSize: 5.411 MiB