Package: generegulation Version: 1.30.0 Command: /home/biocbuild/bbs-3.20-bioc/R/bin/R CMD build --keep-empty-dirs --no-resave-data generegulation StartedAt: 2025-02-11 13:04:21 -0500 (Tue, 11 Feb 2025) EndedAt: 2025-02-11 13:05:20 -0500 (Tue, 11 Feb 2025) EllapsedTime: 59.0 seconds RetCode: 0 Status: OK PackageFile: generegulation_1.30.0.tar.gz PackageFileSize: 1.288 MiB