Package: generegulation Version: 1.30.0 Command: /home/biocbuild/bbs-3.20-bioc/R/bin/R CMD INSTALL generegulation StartedAt: 2025-02-07 13:00:17 -0500 (Fri, 07 Feb 2025) EndedAt: 2025-02-07 13:00:50 -0500 (Fri, 07 Feb 2025) EllapsedTime: 33.3 seconds RetCode: 0 Status: OK