Package: generegulation Version: 1.30.0 Command: chmod a+r generegulation -R && F:\biocbuild\bbs-3.20-bioc\R\bin\R.exe CMD build --keep-empty-dirs --no-resave-data generegulation StartedAt: 2025-02-07 13:07:29 -0500 (Fri, 07 Feb 2025) EndedAt: 2025-02-07 13:08:34 -0500 (Fri, 07 Feb 2025) EllapsedTime: 64.9 seconds RetCode: 0 Status: OK PackageFile: generegulation_1.30.0.tar.gz PackageFileSize: 1.235 MiB