Package: generegulation Version: 1.30.0 Command: F:\biocbuild\bbs-3.20-bioc\R\bin\R.exe CMD INSTALL generegulation StartedAt: 2025-02-07 13:01:29 -0500 (Fri, 07 Feb 2025) EndedAt: 2025-02-07 13:02:11 -0500 (Fri, 07 Feb 2025) EllapsedTime: 41.9 seconds RetCode: 0 Status: OK