Package: highthroughputassays Version: 1.30.0 Command: /home/biocbuild/bbs-3.20-bioc/R/bin/R CMD build --keep-empty-dirs --no-resave-data highthroughputassays StartedAt: 2025-02-07 13:04:35 -0500 (Fri, 07 Feb 2025) EndedAt: 2025-02-07 13:04:59 -0500 (Fri, 07 Feb 2025) EllapsedTime: 24.0 seconds RetCode: 0 Status: OK PackageFile: highthroughputassays_1.30.0.tar.gz PackageFileSize: 514.6 KiB