Package: highthroughputassays Version: 1.30.0 Command: /home/biocbuild/bbs-3.20-bioc/R/bin/R CMD INSTALL highthroughputassays StartedAt: 2025-02-11 13:00:16 -0500 (Tue, 11 Feb 2025) EndedAt: 2025-02-11 13:00:26 -0500 (Tue, 11 Feb 2025) EllapsedTime: 10.0 seconds RetCode: 0 Status: OK