Package: maEndToEnd Version: 2.26.0 Command: /Library/Frameworks/R.framework/Resources/bin/R CMD build --keep-empty-dirs --no-resave-data maEndToEnd StartedAt: 2025-01-24 13:24:23 -0500 (Fri, 24 Jan 2025) EndedAt: 2025-01-24 14:08:25 -0500 (Fri, 24 Jan 2025) EllapsedTime: 2641.8 seconds RetCode: 0 Status: OK PackageFile: maEndToEnd_2.26.0.tar.gz PackageFileSize: 4.59 MiB