Package: maEndToEnd Version: 2.26.0 Command: /Library/Frameworks/R.framework/Resources/bin/R CMD INSTALL maEndToEnd StartedAt: 2025-02-04 13:02:39 -0500 (Tue, 04 Feb 2025) EndedAt: 2025-02-04 13:04:12 -0500 (Tue, 04 Feb 2025) EllapsedTime: 92.3 seconds RetCode: 0 Status: OK