Package: maEndToEnd Version: 2.26.0 Command: /home/biocbuild/bbs-3.20-bioc/R/bin/R CMD build --keep-empty-dirs --no-resave-data maEndToEnd StartedAt: 2025-02-04 13:05:34 -0500 (Tue, 04 Feb 2025) EndedAt: 2025-02-04 13:17:25 -0500 (Tue, 04 Feb 2025) EllapsedTime: 711.6 seconds RetCode: 0 Status: OK PackageFile: maEndToEnd_2.26.0.tar.gz PackageFileSize: 4.272 MiB