Package: maEndToEnd Version: 2.26.0 Command: /home/biocbuild/bbs-3.20-bioc/R/bin/R CMD INSTALL maEndToEnd StartedAt: 2025-02-04 13:00:45 -0500 (Tue, 04 Feb 2025) EndedAt: 2025-02-04 13:01:12 -0500 (Tue, 04 Feb 2025) EllapsedTime: 27.6 seconds RetCode: 0 Status: OK