Package: variants Version: 1.30.0 Command: /Library/Frameworks/R.framework/Resources/bin/R CMD INSTALL variants StartedAt: 2025-02-07 13:00:53 -0500 (Fri, 07 Feb 2025) EndedAt: 2025-02-07 13:02:12 -0500 (Fri, 07 Feb 2025) EllapsedTime: 78.5 seconds RetCode: 0 Status: OK