All our mirrors of open source software are available via http, https, ftp and an onion service. More information about our mirrors including statistics and contact information is available on our mirror info pages.
For information about dotsrc.org and our other services please go to our website.
File Name ↓ | File Size ↓ | Date ↓ |
---|---|---|
Parent directory/ | - | - |
prada | 470 B | 2005-10-19 22:39:10 |
RMAGEML | 535 B | 2005-10-19 22:39:13 |
rfcdmin | 941 B | 2005-10-19 22:39:12 |
maDB | 1.1 KiB | 2005-10-19 22:39:03 |
OLIN | 1.1 KiB | 2005-10-19 22:39:07 |
Rdbi | 1.1 KiB | 2005-10-19 22:39:11 |
daMA | 1.1 KiB | 2005-10-19 22:38:53 |
Icens | 1.1 KiB | 2005-10-19 22:39:01 |
SBMLR | 1.1 KiB | 2005-10-19 22:39:15 |
DynDoc | 1.1 KiB | 2005-10-19 22:38:53 |
GeneTS | 1.1 KiB | 2005-10-19 22:38:57 |
bioDist | 1.1 KiB | 2005-10-19 22:38:50 |
pgUtils | 1.1 KiB | 2005-10-19 22:39:09 |
GraphAT | 1.1 KiB | 2005-10-19 22:39:00 |
affypdnn | 1.1 KiB | 2005-10-19 22:38:47 |
stepNorm | 1.1 KiB | 2005-10-19 22:39:17 |
KEGGSOAP | 1.1 KiB | 2005-10-19 22:39:02 |
hypergraph | 1.2 KiB | 2005-10-19 22:39:01 |
ctc | 1.2 KiB | 2005-10-19 22:38:52 |
LPE | 1.2 KiB | 2005-10-19 22:39:03 |
edd | 1.2 KiB | 2005-10-19 22:38:54 |
ROC | 1.2 KiB | 2005-10-19 22:39:14 |
CoCiteStats | 1.2 KiB | 2005-10-19 22:38:52 |
GeneTraffic | 1.2 KiB | 2005-10-19 22:38:57 |
gpls | 1.2 KiB | 2005-10-19 22:38:59 |
MiPP | 1.2 KiB | 2005-10-19 22:39:06 |
safe | 1.2 KiB | 2005-10-19 22:39:14 |
arrayQuality | 1.2 KiB | 2005-10-19 22:38:49 |
limma | 1.2 KiB | 2005-10-19 22:39:02 |
made4 | 1.2 KiB | 2005-10-19 22:39:04 |
macat | 1.2 KiB | 2005-10-19 22:39:03 |
plgem | 1.2 KiB | 2005-10-19 22:39:09 |
ssize | 1.2 KiB | 2005-10-19 22:39:17 |
hopach | 1.2 KiB | 2005-10-19 22:39:00 |
qvalue | 1.2 KiB | 2005-10-19 22:39:10 |
iSPlot | 1.2 KiB | 2005-10-19 22:39:02 |
nnNorm | 1.2 KiB | 2005-10-19 22:39:07 |
marray | 1.2 KiB | 2005-10-19 22:39:04 |
biomaRt | 1.2 KiB | 2005-10-19 22:38:51 |
annaffy | 1.2 KiB | 2005-10-19 22:38:48 |
SNAData | 1.2 KiB | 2005-10-19 22:39:16 |
goTools | 1.2 KiB | 2005-10-19 22:38:59 |
convert | 1.2 KiB | 2005-10-19 22:38:52 |
webbioc | 1.2 KiB | 2005-10-19 22:39:19 |
PROcess | 1.2 KiB | 2005-10-19 22:39:10 |
GOstats | 1.2 KiB | 2005-10-19 22:38:59 |
OLINgui | 1.2 KiB | 2005-10-19 22:39:08 |
RSNPper | 1.2 KiB | 2005-10-19 22:39:14 |
ecolitk | 1.2 KiB | 2005-10-19 22:38:54 |
ChromoViz | 1.2 KiB | 2005-10-19 22:38:51 |
rama | 1.2 KiB | 2005-10-19 22:39:10 |
pamr | 1.2 KiB | 2005-10-19 22:39:08 |
GeneMeta | 1.2 KiB | 2005-10-19 22:38:56 |
limmaGUI | 1.2 KiB | 2005-10-19 22:39:02 |
rflowcyt | 1.2 KiB | 2005-10-19 22:39:13 |
RankProd | 1.2 KiB | 2005-10-19 22:39:11 |
pickgene | 1.2 KiB | 2005-10-19 22:39:09 |
genArise | 1.2 KiB | 2005-10-19 22:38:55 |
ideogram | 1.2 KiB | 2005-10-19 22:39:01 |
affydata | 1.2 KiB | 2005-10-19 22:38:47 |
siggenes | 1.2 KiB | 2005-10-19 22:39:15 |
affycomp | 1.2 KiB | 2005-10-19 22:38:46 |
Category | 1.2 KiB | 2005-10-19 22:38:51 |
GeneR | 1.2 KiB | 2005-10-19 22:38:56 |
plier | 1.2 KiB | 2005-10-19 22:39:09 |
spotSegmentation | 1.2 KiB | 2005-10-19 22:39:16 |
tkWidgets | 1.2 KiB | 2005-10-19 22:39:18 |
MergeMaid | 1.2 KiB | 2005-10-19 22:39:06 |
affylmGUI | 1.2 KiB | 2005-10-19 22:38:47 |
goCluster | 1.2 KiB | 2005-10-19 22:38:58 |
ontoTools | 1.2 KiB | 2005-10-19 22:39:08 |
SAGElyzer | 1.2 KiB | 2005-10-19 22:39:14 |
apComplex | 1.2 KiB | 2005-10-19 22:38:49 |
impute | 1.2 KiB | 2005-10-19 22:39:01 |
reposTools | 1.2 KiB | 2005-10-19 22:39:12 |
arrayMagic | 1.2 KiB | 2005-10-19 22:38:49 |
globaltest | 1.2 KiB | 2005-10-19 22:38:58 |
factDesign | 1.2 KiB | 2005-10-19 22:38:55 |
altcdfenvs | 1.2 KiB | 2005-10-19 22:38:48 |
AnnBuilder | 1.2 KiB | 2005-10-19 22:38:48 |
timecourse | 1.2 KiB | 2005-10-19 22:39:18 |
GeneSpring | 1.2 KiB | 2005-10-19 22:38:57 |
geneplotter | 1.2 KiB | 2005-10-19 22:38:56 |
clusterStab | 1.2 KiB | 2005-10-19 22:38:52 |
MCRestimate | 1.2 KiB | 2005-10-19 22:39:05 |
gff3Plotter | 1.2 KiB | 2005-10-19 22:38:58 |
widgetTools | 1.2 KiB | 2005-10-19 22:39:19 |
Resourcerer | 1.2 KiB | 2005-10-19 22:39:12 |
widgetInvoke | 1.2 KiB | 2005-10-19 22:39:19 |
MLInterfaces | 1.2 KiB | 2005-10-19 22:39:06 |
affyQCReport | 1.2 KiB | 2005-10-19 22:38:48 |
GlobalAncova | 1.2 KiB | 2005-10-19 22:38:58 |
simulatorAPMS | 1.2 KiB | 2005-10-19 22:39:16 |
Biostrings | 1.2 KiB | 2005-10-19 22:38:51 |
vsn | 1.2 KiB | 2005-10-19 22:39:18 |
reb | 1.2 KiB | 2005-10-19 22:39:12 |
maSigPro | 1.2 KiB | 2005-10-19 22:39:05 |
HEM | 1.2 KiB | 2005-10-19 22:39:00 |
pdmclass | 1.2 KiB | 2005-10-19 22:39:09 |
bim | 1.2 KiB | 2005-10-19 22:38:50 |
stam | 1.2 KiB | 2005-10-19 22:39:17 |
DEDS | 1.2 KiB | 2005-10-19 22:38:53 |
GLAD | 1.2 KiB | 2005-10-19 22:38:58 |
geneRecommender | 1.2 KiB | 2005-10-19 22:38:57 |
graph | 1.2 KiB | 2005-10-19 22:38:59 |
gcrma | 1.2 KiB | 2005-10-19 22:38:55 |
MANOR | 1.2 KiB | 2005-10-19 22:39:04 |
diffGeneAnalysis | 1.2 KiB | 2005-10-19 22:38:53 |
mmgmos | 1.2 KiB | 2005-10-19 22:39:06 |
hexbin | 1.2 KiB | 2005-10-19 22:39:00 |
bridge | 1.2 KiB | 2005-10-19 22:38:51 |
fdrame | 1.2 KiB | 2005-10-19 22:38:55 |
externalVector | 1.3 KiB | 2005-10-19 22:38:54 |
DNAcopy | 1.3 KiB | 2005-10-19 22:38:53 |
maanova | 1.3 KiB | 2005-10-19 22:39:03 |
Biobase | 1.3 KiB | 2005-10-19 22:38:50 |
twilight | 1.3 KiB | 2005-10-19 22:39:18 |
EBarrays | 1.3 KiB | 2005-10-19 22:38:54 |
MeasurementError.cor | 1.3 KiB | 2005-10-19 22:39:05 |
multtest | 1.3 KiB | 2005-10-19 22:39:07 |
genefilter | 1.3 KiB | 2005-10-19 22:38:56 |
pairseqsim | 1.3 KiB | 2005-10-19 22:39:08 |
simpleaffy | 1.3 KiB | 2005-10-19 22:39:15 |
RdbiPgSQL | 1.3 KiB | 2005-10-19 22:39:11 |
tilingArray | 1.3 KiB | 2005-10-19 22:39:17 |
matchprobes | 1.3 KiB | 2005-10-19 22:39:05 |
affxparser | 1.3 KiB | 2005-10-19 22:38:46 |
aCGH | 1.3 KiB | 2005-10-19 22:38:45 |
xcms | 1.3 KiB | 2005-10-19 22:39:19 |
affy | 1.3 KiB | 2005-10-19 22:38:46 |
rhdf5 | 1.3 KiB | 2005-10-19 22:39:13 |
Ruuid | 1.3 KiB | 2005-10-19 22:39:14 |
msbase | 1.3 KiB | 2005-10-19 22:39:07 |
affyPLM | 1.3 KiB | 2005-10-19 22:38:47 |
Rgraphviz | 1.3 KiB | 2005-10-19 22:39:13 |
makecdfenv | 1.3 KiB | 2005-10-19 22:39:04 |
RBGL | 1.4 KiB | 2005-10-19 22:39:11 |
sagenhaft | 1.5 KiB | 2005-10-19 22:39:15 |
annotate | 1.6 KiB | 2005-10-19 22:38:49 |
splicegear | 2.5 KiB | 2005-10-19 22:39:16 |