Back to the "Multiple platform build/check report"
Package 55/172 | OS | Arch | BUILD | CHECK | BUILD BIN |
GeneMeta1.4.0Biocore Team | Linux (SUSE 9.2) | x86_64 | OK | OK | |
Linux (SUSE 9.2) | i686 | OK | OK | ||
Solaris 2.9 | sparc | OK | OK | ||
Linux (SUSE 10.0) | x86_64 | OK | OK | ||
Windows Server 2003 | x86_64 | OK | [ OK ] | OK |
Package: GeneMeta |
Version: 1.4.0 |
Command: D:\biocbld\1.8d\R\bin\R.exe CMD check GeneMeta_1.4.0.tar.gz |
RetCode: 0 |
Time: 163.1 seconds |
Status: OK |
CheckDir: GeneMeta.Rcheck |
Warnings: 0 |
* checking for working latex ... OK * using log directory 'D:/biocbld/1.8d/Rpacks/GeneMeta.Rcheck' * using Version 2.3.1 (2006-06-01) * checking for file 'GeneMeta/DESCRIPTION' ... OK * this is package 'GeneMeta' version '1.4.0' * checking package dependencies ... OK * checking if this is a source package ... OK * checking whether package 'GeneMeta' can be installed ... OK * checking package directory ... OK * checking for portable file names ... OK * checking DESCRIPTION meta-information ... OK * checking top-level files ... OK * checking index information ... OK * checking package subdirectories ... OK * checking R files for syntax errors ... OK * checking R files for library.dynam ... OK * checking S3 generic/method consistency ... OK * checking replacement functions ... OK * checking foreign function calls ... OK * checking Rd files ... OK * checking for missing documentation entries ... OK * checking for code/documentation mismatches ... OK * checking Rd \usage sections ... OK * creating GeneMeta-Ex.R ... OK * checking examples ... OK * checking package vignettes in 'inst/doc' ... OK * creating GeneMeta-manual.tex ... OK * checking GeneMeta-manual.tex ... OK
GeneMeta.Rcheck/00install.out:
installing R.css in D:/biocbld/1.8d/Rpacks/GeneMeta.Rcheck ---------- Making package GeneMeta ------------ adding build stamp to DESCRIPTION installing NAMESPACE file and metadata installing R files save image Loading required package: Biobase Loading required package: tools Welcome to Bioconductor Vignettes contain introductory material. To view, type 'openVignette()' or start with 'help(Biobase)'. For details on reading vignettes, see the openVignette help page. installing inst files installing data files installing man source files installing indices not zipping data installing help >>> Building/Updating help pages for package 'GeneMeta' Formats: text html latex example chm CountPlot text html latex example chm Nevins text html latex example chm dstar text html latex example chm f.Q text html latex example chm tau text html latex example chm zscore text html latex example chm Microsoft HTML Help Compiler 4.74.8702 Compiling d:\biocbld\1.8d\Rpacks\GeneMeta.Rcheck\00_pkg_src\GeneMeta\chm\GeneMeta.chm Compile time: 0 minutes, 0 seconds 7 Topics 26 Local links 1 Internet link 1 Graphic Created d:\biocbld\1.8d\Rpacks\GeneMeta.Rcheck\00_pkg_src\GeneMeta\chm\GeneMeta.chm, 24,871 bytes Compression decreased file by 2,123 bytes. adding MD5 sums * DONE (GeneMeta)