Back to the "Multiple platform build/check report"
Package 130/172 | OS | Arch | BUILD | CHECK | BUILD BIN |
RankProd2.4.0Fangxin Hong | Linux (SUSE 9.2) | x86_64 | OK | OK | |
Linux (SUSE 9.2) | i686 | OK | OK | ||
Solaris 2.9 | sparc | OK | OK | ||
Linux (SUSE 10.0) | x86_64 | OK | OK | ||
Windows Server 2003 | x86_64 | OK | [ OK ] | OK |
Package: RankProd |
Version: 2.4.0 |
Command: D:\biocbld\1.8d\R\bin\R.exe CMD check RankProd_2.4.0.tar.gz |
RetCode: 0 |
Time: 136.7 seconds |
Status: OK |
CheckDir: RankProd.Rcheck |
Warnings: 0 |
* checking for working latex ... OK * using log directory 'D:/biocbld/1.8d/Rpacks/RankProd.Rcheck' * using Version 2.3.1 (2006-06-01) * checking for file 'RankProd/DESCRIPTION' ... OK * this is package 'RankProd' version '2.4.0' * checking package dependencies ... OK * checking if this is a source package ... OK * checking whether package 'RankProd' can be installed ... OK * checking package directory ... OK * checking for portable file names ... OK * checking DESCRIPTION meta-information ... OK * checking top-level files ... OK * checking index information ... OK * checking package subdirectories ... OK * checking R files for syntax errors ... OK * checking R files for library.dynam ... OK * checking S3 generic/method consistency ... OK * checking replacement functions ... OK * checking foreign function calls ... OK * checking Rd files ... OK * checking for missing documentation entries ... OK * checking for code/documentation mismatches ... OK * checking Rd \usage sections ... OK * creating RankProd-Ex.R ... OK * checking examples ... OK * checking package vignettes in 'inst/doc' ... OK * creating RankProd-manual.tex ... OK * checking RankProd-manual.tex ... OK
RankProd.Rcheck/00install.out:
installing R.css in D:/biocbld/1.8d/Rpacks/RankProd.Rcheck ---------- Making package RankProd ------------ adding build stamp to DESCRIPTION installing R files installing inst files installing data files installing man source files Warning message: incomplete final line found by readLines on './man/arab.Rd' installing indices not zipping data installing help >>> Building/Updating help pages for package 'RankProd' Formats: text html latex example chm RP text html latex example chm RPadvance text html latex example chm RSadvance text html latex example chm RankProd-internal text html latex chm arab text html latex chm golub text html latex chm lymphoma text html latex chm plotGene text html latex example chm plotRP text html latex example chm topGene text html latex example chm Microsoft HTML Help Compiler 4.74.8702 Compiling d:\biocbld\1.8d\Rpacks\RankProd.Rcheck\00_pkg_src\RankProd\chm\RankProd.chm Compile time: 0 minutes, 0 seconds 11 Topics 42 Local links 1 Internet link 1 Graphic Created d:\biocbld\1.8d\Rpacks\RankProd.Rcheck\00_pkg_src\RankProd\chm\RankProd.chm, 33,741 bytes Compression decreased file by 15,659 bytes. preparing package RankProd for lazy loading adding MD5 sums * DONE (RankProd)