1.5.0James W. MacDonald | Linux (SUSE 9.2) | x86_64 | OK | OK | |
Linux (SUSE 9.2) | i686 | OK | OK | |
Solaris 2.9 | sparc | [ ERROR ] | skipped | |
Linux (SUSE 10.0) | x86_64 | OK | OK | |
Windows Server 2003 | x86_64 | OK | OK | OK |
* checking for file 'affycoretools/DESCRIPTION' ... OK
* preparing 'affycoretools':
* checking DESCRIPTION meta-information ... OK
* installing the package to re-build vignettes
* Installing *source* package 'affycoretools' ...
** R
** inst
** preparing package for lazy loading
Loading required package: affy
Loading required package: Biobase
Loading required package: tools
Welcome to Bioconductor
Vignettes contain introductory material. To view, type
'openVignette()' or start with 'help(Biobase)'. For details
on reading vignettes, see the openVignette help page.
Loading required package: affyio
Error in dyn.load(x, as.logical(local), as.logical(now)) :
unable to load shared library '/loc/biocbuild/1.9d/R/library/affy/libs/affy.so':
ld.so.1: /loc/biocbuild/1.9d/R/bin/exec/R: fatal: relocation error: file /loc/biocbuild/1.9d/R/library/affy/libs/affy.so: symbol nearbyint: referenced symbol not found
Error: package 'affy' could not be loaded
Execution halted
ERROR: lazy loading failed for package 'affycoretools'
** Removing '/tmp/Rinst2526222759/affycoretools'
ERROR
Installation failed.
Removing '/tmp/Rinst2526222759'