1.5.0Colin A. Smith | Linux (SUSE 9.2) | x86_64 | OK | WARNINGS | |
Linux (SUSE 9.2) | i686 | OK | WARNINGS | |
Solaris 2.9 | sparc | [ ERROR ] | skipped | |
Linux (SUSE 10.0) | x86_64 | OK | WARNINGS | |
Windows Server 2003 | x86_64 | OK | WARNINGS | OK |
* checking for file 'webbioc/DESCRIPTION' ... OK
* preparing 'webbioc':
* checking DESCRIPTION meta-information ... OK
* installing the package to re-build vignettes
* Installing *source* package 'webbioc' ...
** R
** inst
** save image
Loading required package: affy
Loading required package: Biobase
Loading required package: tools
Welcome to Bioconductor
Vignettes contain introductory material. To view, type
'openVignette()' or start with 'help(Biobase)'. For details
on reading vignettes, see the openVignette help page.
Loading required package: affyio
Error in dyn.load(x, as.logical(local), as.logical(now)) :
unable to load shared library '/loc/biocbuild/1.9d/R/library/affy/libs/affy.so':
ld.so.1: /loc/biocbuild/1.9d/R/bin/exec/R: fatal: relocation error: file /loc/biocbuild/1.9d/R/library/affy/libs/affy.so: symbol nearbyint: referenced symbol not found
Error: package 'affy' could not be loaded
Execution halted
ERROR: execution of package source for 'webbioc' failed
** Removing '/tmp/Rinst2203193166/webbioc'
ERROR
Installation failed.
Removing '/tmp/Rinst2203193166'