* checking for file 'rhdf5/DESCRIPTION' ... OK
* preparing 'rhdf5':
* checking DESCRIPTION meta-information ... OK
* cleaning src
* checking whether 'INDEX' is up-to-date ... NO
* use '--force' to overwrite the existing 'INDEX'
* installing the package to re-build vignettes
installing R.css in D:/biocbld/1.9d/tmpdir/Rinst292886782
---------- Making package rhdf5 ------------
**********************************************
WARNING: this package has a configure script
It probably needs manual configuration
**********************************************
adding build stamp to DESCRIPTION
making DLL ...
making hdf5.d from hdf5.c
In file included from hdf5.c:1:
common.h:7:18: hdf5.h: No such file or directory
make[3]: *** [hdf5.d] Error 1
make[2]: *** [srcDynlib] Error 2
make[1]: *** [all] Error 2
make: *** [pkg-rhdf5] Error 2
*** Installation of rhdf5 failed ***
Removing 'D:/biocbld/1.9d/tmpdir/Rinst292886782/rhdf5'
ERROR
Installation failed.
Removing 'D:/biocbld/1.9d/tmpdir/Rinst292886782'