Back to the "Multiple platform build/check report"
Package 147/214 | Hostname | OS | Arch | BUILD | CHECK | BUILD BIN |
pdInfoBuilder1.0.0Seth FalconLast Changed Date: 2007-04-24 11:21:48 -0700 Last Changed Rev: 24214 | lamb1 | Linux (SUSE 10.1) | x86_64 | OK | OK | |
wellington | Linux (SUSE 9.2) | i686 | OK | OK | ||
churchill | Solaris 2.9 | sparc | OK | OK | ||
lemming | Windows Server 2003 (32-bit) | x64 | OK | OK | OK | |
liverpool | Windows Server 2003 R2 (32-bit) | x64 | [ OK ] | OK | OK | |
derby | Mac OS X (10.4.9) | i686 | OK | OK |
Package: pdInfoBuilder |
Version: 1.0.0 |
Command: E:\biocbld\bbs-2.0-bioc\R\bin\R.exe CMD build pdInfoBuilder |
RetCode: 0 |
Time: 25.9 seconds |
Status: OK |
PackageFile: pdInfoBuilder_1.0.0.tar.gz |
* checking for file 'pdInfoBuilder/DESCRIPTION' ... OK * preparing 'pdInfoBuilder': * checking DESCRIPTION meta-information ... OK * cleaning src * installing the package to re-build vignettes installing R.css in E:/biocbld/bbs-2.0-bioc/tmpdir/Rinst482089953 ---------- Making package pdInfoBuilder ------------ adding build stamp to DESCRIPTION installing NAMESPACE file and metadata making DLL ... making pdInfoBuilder.d from pdInfoBuilder.c gcc -Ie:/biocbld/bbs-2.0-bioc/R/include -Wall -O3 -std=gnu99 -c pdInfoBuilder.c -o pdInfoBuilder.o windres -I e:/biocbld/bbs-2.0-bioc/R/include -i pdInfoBuilder_res.rc -o pdInfoBuilder_res.o gcc -shared -s -o pdInfoBuilder.dll pdInfoBuilder.def pdInfoBuilder.o pdInfoBuilder_res.o -Le:/biocbld/bbs-2.0-bioc/R/bin -lR ... DLL made installing DLL installing R files installing inst files installing man source files installing indices installing help >>> Building/Updating help pages for package 'pdInfoBuilder' Formats: text html latex example chm AffySNPPDInfoPkgSeed-class text html latex example chm PDInfoPkgSeed-class text html latex example chm PkgSeed-class text html latex example chm chipName text html latex chm makePdInfoPackage text html latex example chm Microsoft HTML Help Compiler 4.74.8702 Compiling e:\biocbld\bbs-2.0-bioc\meat\pdInfoBuilder\chm\pdInfoBuilder.chm Compile time: 0 minutes, 0 seconds 6 Topics 15 Local links 0 Internet links 1 Graphic Created e:\biocbld\bbs-2.0-bioc\meat\pdInfoBuilder\chm\pdInfoBuilder.chm, 20,506 bytes Compression increased file by 1,142 bytes. preparing package pdInfoBuilder for lazy loading Loading required package: Biobase Loading required package: tools Welcome to Bioconductor Vignettes contain introductory material. To view, type 'openVignette()'. To cite Bioconductor, see 'citation("Biobase")' and for packages 'citation(pkgname)'. Loading required package: RSQLite Loading required package: DBI Loading required package: affxparser Loading required package: oligo Loading required package: affyio Loading required package: splines Loading required package: BufferedMatrix Loading required package: BufferedMatrixMethods This is the oligo package adding MD5 sums * DONE (pdInfoBuilder) * creating vignettes ... OK * cleaning src * removing junk files * checking for LF line-endings in source files * checking for empty or unneeded directories * building 'pdInfoBuilder_1.0.0.tar.gz'