Back to the "Multiple platform build/check report"
Package 214/214 | Hostname | OS | Arch | BUILD | CHECK | BUILD BIN |
xcms1.8.0Colin A. SmithLast Changed Date: 2007-04-24 11:21:48 -0700 Last Changed Rev: 24214 | lamb1 | Linux (SUSE 10.1) | x86_64 | OK | OK | |
wellington | Linux (SUSE 9.2) | i686 | OK | ERROR | ||
churchill | Solaris 2.9 | sparc | [ ERROR ] | skipped | ||
lemming | Windows Server 2003 (32-bit) | x64 | OK | OK | OK | |
liverpool | Windows Server 2003 R2 (32-bit) | x64 | OK | OK | OK | |
derby | Mac OS X (10.4.9) | i686 | OK | ERROR |
Package: xcms |
Version: 1.8.0 |
Command: /loc/biocbuild/bbs-2.0-bioc/R/bin/R CMD build xcms |
RetCode: 1 |
Time: 8.1 seconds |
Status: ERROR |
PackageFile: None |
* checking for file 'xcms/DESCRIPTION' ... OK * preparing 'xcms': * checking DESCRIPTION meta-information ... OK * cleaning src * installing the package to re-build vignettes * Installing *source* package 'xcms' ... ** libs gcc -std=gnu99 -I/loc/biocbuild/bbs-2.0-bioc/R/include -I/loc/biocbuild/bbs-2.0-bioc/R/include -I/usr/local/include -I/sw/include -D_LARGEFILE_SOURCE -I/usr/local/include -fPIC -g -O2 -Wall -c base64.c -o base64.o In file included from base64.c:6: ramp.h:50:20: error: stdint.h: No such file or directory make: *** [base64.o] Error 1 ERROR: compilation failed for package 'xcms' ** Removing '/tmp/Rinst605593591/xcms' ERROR Installation failed. Removing '/tmp/Rinst605593591'