Back to the "Multiple platform build/check report"
Package 37/48 | Hostname | OS | Arch | BUILD | CHECK | BUILD BIN |
ProData0.4.1Xiaochun LiLast Changed Date: 2006-10-09 17:54:27 -0700 Last Changed Rev: 158 | lamb1 | Linux (SUSE 10.1) | x86_64 | OK | OK | |
lemming | Windows Server 2003 (32-bit) | x64 | [ OK ] | OK | OK |
Package: ProData |
Version: 0.4.1 |
Command: D:\biocbld\bbs-2.0-bioc\R\bin\R.exe CMD build ProData |
RetCode: 0 |
Time: 26.5 seconds |
Status: OK |
PackageFile: ProData_0.4.1.tar.gz |
* checking for file 'ProData/DESCRIPTION' ... OK * preparing 'ProData': * checking DESCRIPTION meta-information ... OK * removing junk files * checking for LF line-endings in source files * checking for empty or unneeded directories * building 'ProData_0.4.1.tar.gz'