Back to the "Multiple platform build/check report"
Package 23/48 | Hostname | OS | Arch | BUILD | CHECK | BUILD BIN |
harbChIP0.0.1VJ CareyLast Changed Date: 2007-01-10 09:58:17 -0800 Last Changed Rev: 228 | lamb1 | Linux (SUSE 10.1) | x86_64 | OK | [ OK ] | |
lemming | Windows Server 2003 (32-bit) | x64 | OK | OK | OK |
Package: harbChIP |
Version: 0.0.1 |
Command: /home/biocbuild/bbs-2.0-bioc/R/bin/R CMD check harbChIP_0.0.1.tar.gz |
RetCode: 0 |
Time: 18.5 seconds |
Status: OK |
CheckDir: harbChIP.Rcheck |
Warnings: 0 |
* checking for working latex ... OK * using log directory '/home/biocbuild/bbs-2.0-data-experiment/meat/harbChIP.Rcheck' * using R version 2.5.1 (2007-06-27) * checking for file 'harbChIP/DESCRIPTION' ... OK * this is package 'harbChIP' version '0.0.1' * checking package dependencies ... OK * checking if this is a source package ... OK * checking whether package 'harbChIP' can be installed ... OK * checking package directory ... OK * checking for portable file names ... OK * checking for sufficient/correct file permissions ... OK * checking DESCRIPTION meta-information ... OK * checking top-level files ... OK * checking index information ... OK * checking package subdirectories ... OK * checking whether the package can be loaded ... OK * checking whether the package can be loaded with stated dependencies ... OK * checking Rd files ... OK * checking Rd cross-references ... OK * checking for missing documentation entries ... OK * checking for code/documentation mismatches ... OK * checking Rd \usage sections ... OK * checking data for non-ASCII characters ... OK * creating harbChIP-Ex.R ... OK * checking examples ... OK * creating harbChIP-manual.tex ... OK * checking harbChIP-manual.tex ... OK
harbChIP.Rcheck/00install.out:
* Installing *source* package 'harbChIP' ... ** data ** help >>> Building/Updating help pages for package 'harbChIP' Formats: text html latex example harbChIP text html latex example ** building package indices ... Loading required package: methods * DONE (harbChIP)