Back to the "Multiple platform build/check report"
Package 38/48 | Hostname | OS | Arch | BUILD | CHECK | BUILD BIN |
pumadata1.0.0Richard PearsonLast Changed Date: 2007-04-20 14:01:20 -0700 Last Changed Rev: 289 | lamb1 | Linux (SUSE 10.1) | x86_64 | OK | [ OK ] | |
lemming | Windows Server 2003 (32-bit) | x64 | OK | OK | OK |
Package: pumadata |
Version: 1.0.0 |
Command: /home/biocbuild/bbs-2.0-bioc/R/bin/R CMD check pumadata_1.0.0.tar.gz |
RetCode: 0 |
Time: 34.5 seconds |
Status: OK |
CheckDir: pumadata.Rcheck |
Warnings: 0 |
* checking for working latex ... OK * using log directory '/home/biocbuild/bbs-2.0-data-experiment/meat/pumadata.Rcheck' * using R version 2.5.1 (2007-06-27) * checking for file 'pumadata/DESCRIPTION' ... OK * checking extension type ... Package * this is package 'pumadata' version '1.0.0' * checking package dependencies ... OK * checking if this is a source package ... OK * checking whether package 'pumadata' can be installed ... OK * checking package directory ... OK * checking for portable file names ... OK * checking for sufficient/correct file permissions ... OK * checking DESCRIPTION meta-information ... OK * checking top-level files ... OK * checking index information ... OK * checking package subdirectories ... OK * checking R files for non-ASCII characters ... OK * checking R files for syntax errors ... OK * checking whether the package can be loaded ... OK * checking whether the package can be loaded with stated dependencies ... OK * checking for unstated dependencies in R code ... OK * checking S3 generic/method consistency ... OK * checking replacement functions ... OK * checking foreign function calls ... OK * checking R code for possible problems ... OK * checking Rd files ... OK * checking Rd cross-references ... OK * checking for missing documentation entries ... OK * checking for code/documentation mismatches ... OK * checking Rd \usage sections ... OK * checking data for non-ASCII characters ... OK * creating pumadata-Ex.R ... OK * checking examples ... OK * checking package vignettes in 'inst/doc' ... OK * creating pumadata-manual.tex ... OK * checking pumadata-manual.tex ... OK
pumadata.Rcheck/00install.out:
* Installing *source* package 'pumadata' ... ** R ** data ** inst ** help >>> Building/Updating help pages for package 'pumadata' Formats: text html latex example affybatch.estrogen text html latex eset_estrogen_comb text html latex example eset_estrogen_mmgmos text html latex example eset_estrogen_rma text html latex example pumapca_estrogen text html latex example ** building package indices ... * DONE (pumadata)