Back to the "Multiple platform build/check report"
Package 71/234 | Hostname | OS | Arch | BUILD | CHECK | BUILD BIN |
flowUtils0.2.2Florian HahneLast Changed Date: 2007-03-05 09:16:51 -0800 Last Changed Rev: 22956 | lamb1 | Linux (SUSE 10.1) | x86_64 | OK | OK | |
wellington | Linux (SUSE 9.2) | i686 | OK | OK | ||
churchill | Solaris 2.9 | sparc | OK | ERROR | ||
lemming | Windows Server 2003 (32-bit) | x64 | OK | OK | [ OK ] |
Package: flowUtils |
Version: 0.2.2 |
Command: D:\biocbld\bbs-2.1-bioc\R\bin\R.exe CMD INSTALL --build --library=flowUtils.buildbin-libdir flowUtils_0.2.2.tar.gz |
RetCode: 0 |
Time: 7.0 seconds |
Status: OK |
PackageFile: flowUtils_0.2.2.zip |
installing R.css in D:/biocbld/bbs-2.1-bioc/meat/flowUtils.buildbin-libdir Using auto-selected zip options '' ---------- Making package flowUtils ------------ adding build stamp to DESCRIPTION installing NAMESPACE file and metadata installing R files installing inst files installing man source files installing indices installing help >>> Building/Updating help pages for package 'flowUtils' Formats: text html latex example chm flowUtil-package text html latex example chm read.gatingML text html latex example chm Microsoft HTML Help Compiler 4.74.8702 Compiling d:\biocbld\bbs-2.1-bioc\meat\R.INSTALL.5468\flowUtils\chm\flowUtils.chm Compile time: 0 minutes, 0 seconds 3 Topics 5 Local links 0 Internet links 1 Graphic Created d:\biocbld\bbs-2.1-bioc\meat\R.INSTALL.5468\flowUtils\chm\flowUtils.chm, 17,048 bytes Compression increased file by 6,789 bytes. adding MD5 sums packaged installation of package 'flowUtils' as flowUtils_0.2.2.zip * DONE (flowUtils)